BEGIN:VCALENDAR
VERSION:2.0
PRODID:-//ENGADINE GOLF SENIOREN//NONSGML kigkonsult.se iCalcreator 2.16.12
 //
METHOD:PUBLISH
X-MS-OLK-FORCEINSPECTOROPEN:TRUE
BEGIN:VEVENT
UID:20260423T122455CEST-916951W58j@ENGADINE GOLF SENIOREN
DTSTAMP:20260423T102455Z
DESCRIPTION:Wir laden Euch\, zusammen mit Euren Partnern\, herzlich ein zum
  traditionellen Jahresend-Apéro.\n\nOrt: Hotel Monopol\, Sky Bar\, St.Mori
 tz\n\nZeit: 17-19h\n\nKeine Anmeldung notwendig.\n
DTSTART:20261217T170000
DTEND:20261217T190000
LOCATION:Hotel Monopol / St. Moritz
ORGANIZER:MAILTO:ENGADINE GOLF SENIOREN <contact@engadin-golf-senioren.ch>
SUMMARY:Jahresend-Apéro in der Monopol Bar
END:VEVENT
END:VCALENDAR
